BEGIN:VCALENDAR
VERSION:2.0
PRODID:-//wp-events-plugin.com//7.2.3.1//EN
TZID:Europe/Madrid
X-WR-TIMEZONE:Europe/Madrid
BEGIN:VEVENT
UID:134@riderspirit.es
DTSTART;TZID=Europe/Madrid:20250202T100000
DTEND;TZID=Europe/Madrid:20250202T173000
DTSTAMP:20250124T085736Z
URL:https://www.riderspirit.es/eventos/andalucia-7/
SUMMARY:ANDALUCÍA
DESCRIPTION:
ATTACH;FMTTYPE=image/jpeg:https://www.riderspirit.es/wp-content/uploads/20
 25/01/WhatsApp-Image-2025-01-22-at-15.19.29.jpeg
CATEGORIES:Velocidad
END:VEVENT
BEGIN:VTIMEZONE
TZID:Europe/Madrid
X-LIC-LOCATION:Europe/Madrid
BEGIN:STANDARD
DTSTART:20241027T020000
TZOFFSETFROM:+0200
TZOFFSETTO:+0100
TZNAME:CET
END:STANDARD
END:VTIMEZONE
END:VCALENDAR