BEGIN:VCALENDAR
VERSION:2.0
PRODID:-//wp-events-plugin.com//7.2.3.1//EN
TZID:Europe/Madrid
X-WR-TIMEZONE:Europe/Madrid
BEGIN:VEVENT
UID:169@riderspirit.es
DTSTART;TZID=Europe/Madrid:20250615T100000
DTEND;TZID=Europe/Madrid:20250615T173000
DTSTAMP:20250512T165958Z
URL:https://www.riderspirit.es/eventos/andalucia-niveles-4/
SUMMARY:ANDALUCIA/NIVELES
DESCRIPTION:
ATTACH;FMTTYPE=image/jpeg:https://www.riderspirit.es/wp-content/uploads/20
 25/05/Copia-de-Copia-de-Copia-de-Copia-de-Sin-titulo_20250511_150042_0000.
 jpg
CATEGORIES:Velocidad
END:VEVENT
BEGIN:VTIMEZONE
TZID:Europe/Madrid
X-LIC-LOCATION:Europe/Madrid
BEGIN:DAYLIGHT
DTSTART:20250330T030000
TZOFFSETFROM:+0100
TZOFFSETTO:+0200
TZNAME:CEST
END:DAYLIGHT
END:VTIMEZONE
END:VCALENDAR