BEGIN:VCALENDAR
VERSION:2.0
PRODID:-//wp-events-plugin.com//7.2.3.1//EN
TZID:Europe/Madrid
X-WR-TIMEZONE:Europe/Madrid
BEGIN:VEVENT
UID:206@riderspirit.es
DTSTART;TZID=Europe/Madrid:20251214T100000
DTEND;TZID=Europe/Madrid:20251214T173000
DTSTAMP:20250828T163753Z
URL:https://www.riderspirit.es/eventos/andalucia-niveles-5/
SUMMARY:ANDALUCIA/NIVELES
DESCRIPTION:
ATTACH;FMTTYPE=image/jpeg:https://www.riderspirit.es/wp-content/uploads/20
 25/05/MVA7930-scaled.jpg
CATEGORIES:Velocidad
END:VEVENT
BEGIN:VTIMEZONE
TZID:Europe/Madrid
X-LIC-LOCATION:Europe/Madrid
BEGIN:STANDARD
DTSTART:20251026T020000
TZOFFSETFROM:+0200
TZOFFSETTO:+0100
TZNAME:CET
END:STANDARD
END:VTIMEZONE
END:VCALENDAR