BEGIN:VCALENDAR
VERSION:2.0
PRODID:-//wp-events-plugin.com//7.2.3.1//EN
TZID:Europe/Madrid
X-WR-TIMEZONE:Europe/Madrid
BEGIN:VEVENT
UID:191@riderspirit.es
DTSTART;TZID=Europe/Madrid:20250817T090000
DTEND;TZID=Europe/Madrid:20250817T140000
DTSTAMP:20250805T102838Z
URL:https://www.riderspirit.es/eventos/andalucia-pista-abierta-medio-dia/
SUMMARY:ANDALUCIA DOS GRUPOS MEDIO DIA
DESCRIPTION:
ATTACH;FMTTYPE=image/jpeg:https://www.riderspirit.es/wp-content/uploads/20
 25/08/Agosto-andalucia.jpg
CATEGORIES:Velocidad
END:VEVENT
BEGIN:VTIMEZONE
TZID:Europe/Madrid
X-LIC-LOCATION:Europe/Madrid
BEGIN:DAYLIGHT
DTSTART:20250330T030000
TZOFFSETFROM:+0100
TZOFFSETTO:+0200
TZNAME:CEST
END:DAYLIGHT
END:VTIMEZONE
END:VCALENDAR