BEGIN:VCALENDAR
VERSION:2.0
PRODID:-//wp-events-plugin.com//7.2.3.1//EN
TZID:Europe/Madrid
X-WR-TIMEZONE:Europe/Madrid
BEGIN:VEVENT
UID:234@riderspirit.es
DTSTART;TZID=Europe/Madrid:20260417T090000
DTEND;TZID=Europe/Madrid:20260417T140000
DTSTAMP:20260409T090426Z
URL:https://www.riderspirit.es/eventos/cartgena-tandas-55/
SUMMARY:CARTGENA TANDAS
DESCRIPTION:
ATTACH;FMTTYPE=image/jpeg:https://www.riderspirit.es/wp-content/uploads/20
 25/12/17-y-18-abril-1.jpg
CATEGORIES:Velocidad
END:VEVENT
BEGIN:VTIMEZONE
TZID:Europe/Madrid
X-LIC-LOCATION:Europe/Madrid
BEGIN:DAYLIGHT
DTSTART:20260329T030000
TZOFFSETFROM:+0100
TZOFFSETTO:+0200
TZNAME:CEST
END:DAYLIGHT
END:VTIMEZONE
END:VCALENDAR