BEGIN:VCALENDAR
VERSION:2.0
PRODID:-//wp-events-plugin.com//7.2.3.1//EN
TZID:Europe/Madrid
X-WR-TIMEZONE:Europe/Madrid
BEGIN:VEVENT
UID:120@riderspirit.es
DTSTART;TZID=Europe/Madrid:20250117T090000
DTEND;TZID=Europe/Madrid:20250117T140000
DTSTAMP:20241230T113721Z
URL:https://www.riderspirit.es/eventos/cartgena-tandas-6/
SUMMARY:CARTGENA TANDAS
DESCRIPTION:
CATEGORIES:Velocidad
END:VEVENT
BEGIN:VTIMEZONE
TZID:Europe/Madrid
X-LIC-LOCATION:Europe/Madrid
BEGIN:STANDARD
DTSTART:20241027T020000
TZOFFSETFROM:+0200
TZOFFSETTO:+0100
TZNAME:CET
END:STANDARD
END:VTIMEZONE
END:VCALENDAR