BEGIN:VCALENDAR
VERSION:2.0
PRODID:-//wp-events-plugin.com//7.2.3.1//EN
TZID:Europe/Madrid
X-WR-TIMEZONE:Europe/Madrid
BEGIN:VEVENT
UID:236@riderspirit.es
DTSTART;TZID=Europe/Madrid:20260206T150000
DTEND;TZID=Europe/Madrid:20260206T180000
DTSTAMP:20251231T164851Z
URL:https://www.riderspirit.es/eventos/coches-cartagena/
SUMMARY:COCHES CARTAGENA
DESCRIPTION:
ATTACH;FMTTYPE=image/jpeg:https://www.riderspirit.es/wp-content/uploads/20
 25/12/Copia-de-COCHES-19-DICIEMBRE.jpg
CATEGORIES:Coches
END:VEVENT
BEGIN:VTIMEZONE
TZID:Europe/Madrid
X-LIC-LOCATION:Europe/Madrid
BEGIN:STANDARD
DTSTART:20251026T020000
TZOFFSETFROM:+0200
TZOFFSETTO:+0100
TZNAME:CET
END:STANDARD
END:VTIMEZONE
END:VCALENDAR