BEGIN:VCALENDAR
VERSION:2.0
PRODID:-//wp-events-plugin.com//7.2.3.1//EN
TZID:Europe/Madrid
X-WR-TIMEZONE:Europe/Madrid
BEGIN:VEVENT
UID:211@riderspirit.es
DTSTART;TZID=Europe/Madrid:20250919T100000
DTEND;TZID=Europe/Madrid:20250919T170000
DTSTAMP:20250909T101938Z
URL:https://www.riderspirit.es/eventos/entrenos-mir-racing-andalucia/
SUMMARY:ENTRENAMIENTOS MIR RACING ANDALUCIA
DESCRIPTION:
ATTACH;FMTTYPE=image/jpeg:https://www.riderspirit.es/wp-content/uploads/20
 25/09/2.jpg
CATEGORIES:Velocidad
END:VEVENT
BEGIN:VTIMEZONE
TZID:Europe/Madrid
X-LIC-LOCATION:Europe/Madrid
BEGIN:DAYLIGHT
DTSTART:20250330T030000
TZOFFSETFROM:+0100
TZOFFSETTO:+0200
TZNAME:CEST
END:DAYLIGHT
END:VTIMEZONE
END:VCALENDAR