BEGIN:VCALENDAR
VERSION:2.0
PRODID:-//wp-events-plugin.com//7.2.3.1//EN
TZID:Europe/Madrid
X-WR-TIMEZONE:Europe/Madrid
BEGIN:VEVENT
UID:213@riderspirit.es
DTSTART;TZID=Europe/Madrid:20250927T100000
DTEND;TZID=Europe/Madrid:20250927T140000
DTSTAMP:20250915T095721Z
URL:https://www.riderspirit.es/eventos/pitbike-curso-yepes-2/
SUMMARY:PITBIKE CURSO YEPES
DESCRIPTION:
ATTACH;FMTTYPE=image/jpeg:https://www.riderspirit.es/wp-content/uploads/20
 25/09/Copia-de-23-AGOSTO-YEPES.jpg
CATEGORIES:Pit Bike
END:VEVENT
BEGIN:VTIMEZONE
TZID:Europe/Madrid
X-LIC-LOCATION:Europe/Madrid
BEGIN:DAYLIGHT
DTSTART:20250330T030000
TZOFFSETFROM:+0100
TZOFFSETTO:+0200
TZNAME:CEST
END:DAYLIGHT
END:VTIMEZONE
END:VCALENDAR