BEGIN:VCALENDAR
VERSION:2.0
PRODID:-//wp-events-plugin.com//7.2.3.1//EN
TZID:Europe/Madrid
X-WR-TIMEZONE:Europe/Madrid
BEGIN:VEVENT
UID:246@riderspirit.es
DTSTART;TZID=Europe/Madrid:20260228T100000
DTEND;TZID=Europe/Madrid:20260228T140000
DTSTAMP:20260126T103144Z
URL:https://www.riderspirit.es/eventos/pitbike-curso-yepes-6/
SUMMARY:PITBIKE CURSO YEPES
DESCRIPTION:
ATTACH;FMTTYPE=image/jpeg:https://www.riderspirit.es/wp-content/uploads/20
 26/01/28-FEBRERO-YEPES.jpg
CATEGORIES:Pit Bike
END:VEVENT
BEGIN:VTIMEZONE
TZID:Europe/Madrid
X-LIC-LOCATION:Europe/Madrid
BEGIN:STANDARD
DTSTART:20251026T020000
TZOFFSETFROM:+0200
TZOFFSETTO:+0100
TZNAME:CET
END:STANDARD
END:VTIMEZONE
END:VCALENDAR