BEGIN:VCALENDAR
VERSION:2.0
PRODID:-//wp-events-plugin.com//7.2.3.1//EN
TZID:Europe/Madrid
X-WR-TIMEZONE:Europe/Madrid
BEGIN:VEVENT
UID:281@riderspirit.es
DTSTART;TZID=Europe/Madrid:20260510T150000
DTEND;TZID=Europe/Madrid:20260510T180000
DTSTAMP:20260415T151630Z
URL:https://www.riderspirit.es/eventos/resistencia-pitbike-aspar-circuit/
SUMMARY:RESISTENCIA PITBIKE ASPAR CIRCUIT
DESCRIPTION:
ATTACH;FMTTYPE=image/jpeg:https://www.riderspirit.es/wp-content/uploads/20
 26/04/RESISTENCIA-2-H-ASPAR2-1.jpg
CATEGORIES:Pit Bike
END:VEVENT
BEGIN:VTIMEZONE
TZID:Europe/Madrid
X-LIC-LOCATION:Europe/Madrid
BEGIN:DAYLIGHT
DTSTART:20260329T030000
TZOFFSETFROM:+0100
TZOFFSETTO:+0200
TZNAME:CEST
END:DAYLIGHT
END:VTIMEZONE
END:VCALENDAR