BEGIN:VCALENDAR
VERSION:2.0
PRODID:-//wp-events-plugin.com//7.2.3.1//EN
TZID:Europe/Madrid
X-WR-TIMEZONE:Europe/Madrid
BEGIN:VEVENT
UID:221@riderspirit.es
DTSTART;TZID=Europe/Madrid:20251123T134500
DTEND;TZID=Europe/Madrid:20251123T173000
DTSTAMP:20251107T110230Z
URL:https://www.riderspirit.es/eventos/resistencia-pitbike-aspar/
SUMMARY:RESISTENCIA PITBIKE ASPAR CIRCUIT
DESCRIPTION:
ATTACH;FMTTYPE=image/jpeg:https://www.riderspirit.es/wp-content/uploads/20
 25/11/RESISTENCIA-2-H-ASPAR.jpg
CATEGORIES:Pit Bike
END:VEVENT
BEGIN:VTIMEZONE
TZID:Europe/Madrid
X-LIC-LOCATION:Europe/Madrid
BEGIN:STANDARD
DTSTART:20251026T020000
TZOFFSETFROM:+0200
TZOFFSETTO:+0100
TZNAME:CET
END:STANDARD
END:VTIMEZONE
END:VCALENDAR