BEGIN:VCALENDAR
VERSION:2.0
PRODID:-//wp-events-plugin.com//7.2.3.1//EN
TZID:Europe/Madrid
X-WR-TIMEZONE:Europe/Madrid
BEGIN:VEVENT
UID:223@riderspirit.es
DTSTART;TZID=Europe/Madrid:20251129T150000
DTEND;TZID=Europe/Madrid:20251129T180000
DTSTAMP:20251112T104729Z
URL:https://www.riderspirit.es/eventos/resistencia-pitbike-corral-de-cva-c
 r/
SUMMARY:RESISTENCIA PITBIKE CORRAL DE CVA (CR)
DESCRIPTION:
ATTACH;FMTTYPE=image/jpeg:https://www.riderspirit.es/wp-content/uploads/20
 25/11/29-NOVIEMBRE-RESISTENCIA-PITBIKE-CORRAL-2.jpg
CATEGORIES:Pit Bike
END:VEVENT
BEGIN:VTIMEZONE
TZID:Europe/Madrid
X-LIC-LOCATION:Europe/Madrid
BEGIN:STANDARD
DTSTART:20251026T020000
TZOFFSETFROM:+0200
TZOFFSETTO:+0100
TZNAME:CET
END:STANDARD
END:VTIMEZONE
END:VCALENDAR