BEGIN:VCALENDAR
VERSION:2.0
PRODID:-//wp-events-plugin.com//7.2.3.1//EN
TZID:Europe/Madrid
X-WR-TIMEZONE:Europe/Madrid
BEGIN:VEVENT
UID:118@riderspirit.es
DTSTART;TZID=Europe/Madrid:20250222T090000
DTEND;TZID=Europe/Madrid:20250222T170000
DTSTAMP:20241230T121146Z
URL:https://www.riderspirit.es/eventos/rodada-aspar-circuit-sabado-22-febr
 ero/
SUMMARY:ASPAR CIRCUIT
DESCRIPTION:
ATTACH;FMTTYPE=image/jpeg:https://www.riderspirit.es/wp-content/uploads/20
 24/12/22-FEBRERO-ASPAR.jpg
CATEGORIES:Velocidad
END:VEVENT
BEGIN:VTIMEZONE
TZID:Europe/Madrid
X-LIC-LOCATION:Europe/Madrid
BEGIN:STANDARD
DTSTART:20241027T020000
TZOFFSETFROM:+0200
TZOFFSETTO:+0100
TZNAME:CET
END:STANDARD
END:VTIMEZONE
END:VCALENDAR